BEGIN:VCALENDAR
VERSION:2.0
PRODID:-//iag.bochum - ECPv6.15.20//NONSGML v1.0//EN
CALSCALE:GREGORIAN
METHOD:PUBLISH
X-ORIGINAL-URL:https://www.iagbochum.de
X-WR-CALDESC:Veranstaltungen für iag.bochum
REFRESH-INTERVAL;VALUE=DURATION:PT1H
X-Robots-Tag:noindex
X-PUBLISHED-TTL:PT1H
BEGIN:VTIMEZONE
TZID:Europe/Berlin
BEGIN:DAYLIGHT
TZOFFSETFROM:+0100
TZOFFSETTO:+0200
TZNAME:CEST
DTSTART:20230326T010000
END:DAYLIGHT
BEGIN:STANDARD
TZOFFSETFROM:+0200
TZOFFSETTO:+0100
TZNAME:CET
DTSTART:20231029T010000
END:STANDARD
BEGIN:DAYLIGHT
TZOFFSETFROM:+0100
TZOFFSETTO:+0200
TZNAME:CEST
DTSTART:20240331T010000
END:DAYLIGHT
BEGIN:STANDARD
TZOFFSETFROM:+0200
TZOFFSETTO:+0100
TZNAME:CET
DTSTART:20241027T010000
END:STANDARD
BEGIN:DAYLIGHT
TZOFFSETFROM:+0100
TZOFFSETTO:+0200
TZNAME:CEST
DTSTART:20250330T010000
END:DAYLIGHT
BEGIN:STANDARD
TZOFFSETFROM:+0200
TZOFFSETTO:+0100
TZNAME:CET
DTSTART:20251026T010000
END:STANDARD
END:VTIMEZONE
BEGIN:VEVENT
DTSTART;VALUE=DATE:20240916
DTEND;VALUE=DATE:20240921
DTSTAMP:20260419T225329
CREATED:20230928T122146Z
LAST-MODIFIED:20240730T154615Z
UID:20354-1726444800-1726876799@www.iagbochum.de
SUMMARY:Bildungsurlaub Qigong-Die Form der Schlange
DESCRIPTION:Mehr Kraft im Beruf durch Qigong\nDieser Bildungsurlaub vermittelt Übungen zur Stressbewältigung aus dem Wudang-Qigong.\nSie tragen dazu bei\, Zugang zu inneren Kraftquellen zu bekommen und durch feine Korrekturen innere Blockaden und Fehlhaltungen nachhaltig aufzulösen. So erlernen Sie eine wirksame Methode\, um dem Berufsalltag  entspannter und somit effektiver begegnen zu können. \nWeitere Infos und Anmeldung
URL:https://www.iagbochum.de/kalender/bildungsurlaub-qigong-die-form-der-schlange/
LOCATION:Gecko-Centrum\, Eickener Str. 41\, Hattingen\, NRW\, 45525\, Deutschland
CATEGORIES:Bildungsurlaub
ATTACH;FMTTYPE=image/jpeg:https://www.iagbochum.de/wp-content/uploads/2020/08/SH-GREAT-WALL.jpg
END:VEVENT
END:VCALENDAR